BEGIN:VCALENDAR
VERSION:2.0
PRODID:-//Early Learning Essentials - ECPv6.15.20//NONSGML v1.0//EN
CALSCALE:GREGORIAN
METHOD:PUBLISH
X-ORIGINAL-URL:https://eleutah.org
X-WR-CALDESC:Events for Early Learning Essentials
REFRESH-INTERVAL;VALUE=DURATION:PT1H
X-Robots-Tag:noindex
X-PUBLISHED-TTL:PT1H
BEGIN:VTIMEZONE
TZID:UTC
BEGIN:STANDARD
TZOFFSETFROM:+0000
TZOFFSETTO:+0000
TZNAME:UTC
DTSTART:20200101T000000
END:STANDARD
END:VTIMEZONE
BEGIN:VTIMEZONE
TZID:America/North_Dakota/Center
BEGIN:DAYLIGHT
TZOFFSETFROM:-0600
TZOFFSETTO:-0500
TZNAME:CDT
DTSTART:20200308T080000
END:DAYLIGHT
BEGIN:STANDARD
TZOFFSETFROM:-0500
TZOFFSETTO:-0600
TZNAME:CST
DTSTART:20201101T070000
END:STANDARD
BEGIN:DAYLIGHT
TZOFFSETFROM:-0600
TZOFFSETTO:-0500
TZNAME:CDT
DTSTART:20210314T080000
END:DAYLIGHT
BEGIN:STANDARD
TZOFFSETFROM:-0500
TZOFFSETTO:-0600
TZNAME:CST
DTSTART:20211107T070000
END:STANDARD
BEGIN:DAYLIGHT
TZOFFSETFROM:-0600
TZOFFSETTO:-0500
TZNAME:CDT
DTSTART:20220313T080000
END:DAYLIGHT
BEGIN:STANDARD
TZOFFSETFROM:-0500
TZOFFSETTO:-0600
TZNAME:CST
DTSTART:20221106T070000
END:STANDARD
END:VTIMEZONE
BEGIN:VEVENT
DTSTART;TZID=UTC:20211009T100000
DTEND;TZID=UTC:20211009T110000
DTSTAMP:20260420T090653
CREATED:20211001T165112Z
LAST-MODIFIED:20211001T165112Z
UID:3441-1633773600-1633777200@eleutah.org
SUMMARY:DUDE Activity: Art Experience
DESCRIPTION:  \n  \n  \n  \n  \nPositive male figure and child are invited to attend. \nWe will be creating festive masks celebrating different cultures and interests. \nActivity will be lead by Provo High School art students. \nNo tickets required!  \nARTcetera Gallery @ Provo Mall (2nd Floor by Dillards)
URL:https://eleutah.org/event/dude-activity-art-experience/
LOCATION:Provo Mall\, 1200 Towne Centre Blvd\, Provo\, UT\, United States
END:VEVENT
BEGIN:VEVENT
DTSTART;TZID=America/North_Dakota/Center:20210928T180000
DTEND;TZID=America/North_Dakota/Center:20210928T200000
DTSTAMP:20260420T090653
CREATED:20210902T033903Z
LAST-MODIFIED:20210903T040007Z
UID:2056-1632852000-1632859200@eleutah.org
SUMMARY:Policy Council
DESCRIPTION:This is a combined Policy Council Meeting with the outgoing Policy Council membership and the incoming membership. Dinner will be served to those attending in person. There will be a virtual option for those who cannot attend.
URL:https://eleutah.org/event/policy-council/
LOCATION:Grant School\, 105 S 400 E\, Springville\, UT\, 84663\, United States
END:VEVENT
BEGIN:VEVENT
DTSTART;TZID=America/North_Dakota/Center:20210922T180000
DTEND;TZID=America/North_Dakota/Center:20210922T200000
DTSTAMP:20260420T090653
CREATED:20210902T042935Z
LAST-MODIFIED:20210903T040101Z
UID:2065-1632333600-1632340800@eleutah.org
SUMMARY:Parent Committee and Policy Council Orientation
DESCRIPTION:Parent committee members and policy council members will be trained on their exciting role! Dinner will be served for those in attendance in person. There will be a virtual option for those that cannot attend in person. Looking forward to meeting all new officers!
URL:https://eleutah.org/event/parent-committee-and-policy-council-orientation/
LOCATION:Grant School\, 105 S 400 E\, Springville\, UT\, 84663\, United States
END:VEVENT
END:VCALENDAR