BEGIN:VCALENDAR
VERSION:2.0
PRODID:-//Early Learning Essentials - ECPv6.15.20//NONSGML v1.0//EN
CALSCALE:GREGORIAN
METHOD:PUBLISH
X-ORIGINAL-URL:https://eleutah.org
X-WR-CALDESC:Events for Early Learning Essentials
REFRESH-INTERVAL;VALUE=DURATION:PT1H
X-Robots-Tag:noindex
X-PUBLISHED-TTL:PT1H
BEGIN:VTIMEZONE
TZID:America/Boise
BEGIN:DAYLIGHT
TZOFFSETFROM:-0700
TZOFFSETTO:-0600
TZNAME:MDT
DTSTART:20220313T090000
END:DAYLIGHT
BEGIN:STANDARD
TZOFFSETFROM:-0600
TZOFFSETTO:-0700
TZNAME:MST
DTSTART:20221106T080000
END:STANDARD
BEGIN:DAYLIGHT
TZOFFSETFROM:-0700
TZOFFSETTO:-0600
TZNAME:MDT
DTSTART:20230312T090000
END:DAYLIGHT
BEGIN:STANDARD
TZOFFSETFROM:-0600
TZOFFSETTO:-0700
TZNAME:MST
DTSTART:20231105T080000
END:STANDARD
BEGIN:DAYLIGHT
TZOFFSETFROM:-0700
TZOFFSETTO:-0600
TZNAME:MDT
DTSTART:20240310T090000
END:DAYLIGHT
BEGIN:STANDARD
TZOFFSETFROM:-0600
TZOFFSETTO:-0700
TZNAME:MST
DTSTART:20241103T080000
END:STANDARD
END:VTIMEZONE
BEGIN:VTIMEZONE
TZID:UTC
BEGIN:STANDARD
TZOFFSETFROM:+0000
TZOFFSETTO:+0000
TZNAME:UTC
DTSTART:20220101T000000
END:STANDARD
END:VTIMEZONE
BEGIN:VEVENT
DTSTART;VALUE=DATE:20231027
DTEND;VALUE=DATE:20231028
DTSTAMP:20260419T171053
CREATED:20230811T205631Z
LAST-MODIFIED:20230811T205631Z
UID:7019-1698364800-1698451199@eleutah.org
SUMMARY:Shortened Day for Extended Day Classes
DESCRIPTION:Extended Day classes will be 3.5 hours long.
URL:https://eleutah.org/event/shortened-day-for-extended-day-classes-2/
CATEGORIES:Extended Day,School Year Calendar
END:VEVENT
BEGIN:VEVENT
DTSTART;VALUE=DATE:20231019
DTEND;VALUE=DATE:20231021
DTSTAMP:20260419T171053
CREATED:20230811T204119Z
LAST-MODIFIED:20230811T204119Z
UID:7001-1697673600-1697846399@eleutah.org
SUMMARY:Fall Break - No Classes
DESCRIPTION:No extended or part day classes will be held on October 19th or 20th.
URL:https://eleutah.org/event/fall-break-no-classes/
CATEGORIES:Extended Day,Part Day,School Year Calendar
END:VEVENT
BEGIN:VEVENT
DTSTART;VALUE=DATE:20230904
DTEND;VALUE=DATE:20230905
DTSTAMP:20260419T171053
CREATED:20230811T203947Z
LAST-MODIFIED:20230811T203947Z
UID:6999-1693785600-1693871999@eleutah.org
SUMMARY:Labor Day - No Classes
DESCRIPTION:No classes will be held for either extended or part day classes.
URL:https://eleutah.org/event/labor-day-no-classes/
CATEGORIES:Extended Day,Part Day,School Year Calendar
END:VEVENT
BEGIN:VEVENT
DTSTART;VALUE=DATE:20230822
DTEND;VALUE=DATE:20230824
DTSTAMP:20260419T171053
CREATED:20230811T203536Z
LAST-MODIFIED:20230811T203842Z
UID:6995-1692662400-1692835199@eleutah.org
SUMMARY:Getting Acquainted Days - Part Day Classes Begin
DESCRIPTION:Part Day classes begin for your child on either the 22nd or the 23rd. In order to give more individualized time to each child at the beginning of the year the class is split in half. One half will come on the 22nd\, and the other on the 23rd. Please contact your teacher to see which day your child will begin classes.
URL:https://eleutah.org/event/getting-acquainted-days-part-day-classes-begin/
CATEGORIES:Part Day,School Year Calendar
END:VEVENT
BEGIN:VEVENT
DTSTART;VALUE=DATE:20230817
DTEND;VALUE=DATE:20230819
DTSTAMP:20260419T171053
CREATED:20230811T203710Z
LAST-MODIFIED:20230811T203710Z
UID:6997-1692230400-1692403199@eleutah.org
SUMMARY:Getting Acquainted Days - Extended Day Classes Begin
DESCRIPTION:Extended Day classes begin for your child on either the 17th or the 18th. In order to give more individualized time to each child at the beginning of the year the class is split in half. One half will come on the 17th\, and the other on the 18th. Please contact your teacher to see which day your child will begin classes.
URL:https://eleutah.org/event/getting-acquainted-days-extended-day-classes-begin/
CATEGORIES:Extended Day,School Year Calendar
END:VEVENT
BEGIN:VEVENT
DTSTART;VALUE=DATE:20230817
DTEND;VALUE=DATE:20230819
DTSTAMP:20260419T171053
CREATED:20230811T203224Z
LAST-MODIFIED:20230811T204235Z
UID:6993-1692230400-1692403199@eleutah.org
SUMMARY:Teacher Home Visits - Part Day Classes
DESCRIPTION:Teachers will schedule a time to meet with you and your child before school starts to give important information about the school year.
URL:https://eleutah.org/event/teacher-home-visits-2/
CATEGORIES:Part Day,School Year Calendar
END:VEVENT
BEGIN:VEVENT
DTSTART;VALUE=DATE:20230810
DTEND;VALUE=DATE:20230812
DTSTAMP:20260419T171053
CREATED:20230811T203152Z
LAST-MODIFIED:20230811T204259Z
UID:6991-1691625600-1691798399@eleutah.org
SUMMARY:Teacher Home Visits - Part & Extended Day Classes
DESCRIPTION:Teachers will schedule a time to meet with you and your child before school starts to give important information about the school year.
URL:https://eleutah.org/event/teacher-home-visits/
CATEGORIES:Extended Day,Part Day,School Year Calendar
END:VEVENT
BEGIN:VEVENT
DTSTART;VALUE=DATE:20230524
DTEND;VALUE=DATE:20230525
DTSTAMP:20260419T171053
CREATED:20230418T174540Z
LAST-MODIFIED:20230425T200848Z
UID:6472-1684886400-1684972799@eleutah.org
SUMMARY:Last Day of Extended Day Classes
DESCRIPTION:May 24th will be the last day of extended day classes.
URL:https://eleutah.org/event/last-day-of-extended-day-classes/
LOCATION:Provo Administrative Builidng\, 264 W 300 N\, Provo\, UT\, 84601\, United States
CATEGORIES:School Year Calendar
END:VEVENT
BEGIN:VEVENT
DTSTART;VALUE=DATE:20230511
DTEND;VALUE=DATE:20230512
DTSTAMP:20260419T171053
CREATED:20230418T174443Z
LAST-MODIFIED:20230425T200936Z
UID:6470-1683763200-1683849599@eleutah.org
SUMMARY:Last Day of Part Day Classes
DESCRIPTION:May 11 is the last day for part day classes.
URL:https://eleutah.org/event/last-day-of-part-day-classes/
LOCATION:Provo Administrative Builidng\, 264 W 300 N\, Provo\, UT\, 84601\, United States
CATEGORIES:School Year Calendar
END:VEVENT
BEGIN:VEVENT
DTSTART;VALUE=DATE:20230505
DTEND;VALUE=DATE:20230506
DTSTAMP:20260419T171053
CREATED:20230418T175640Z
LAST-MODIFIED:20230425T200952Z
UID:6479-1683244800-1683331199@eleutah.org
SUMMARY:Shortened Day for Extended Day Classes
DESCRIPTION:All Extended Day Classes will only be 3 hours long on Friday\, May 5th. Please plan for your child’s pick-up accordingly. Please communicate with your child’s teacher if you have any questions.
URL:https://eleutah.org/event/shortened-day-for-extended-day-classes/
LOCATION:Provo Administrative Builidng\, 264 W 300 N\, Provo\, UT\, 84601\, United States
CATEGORIES:School Year Calendar
END:VEVENT
BEGIN:VEVENT
DTSTART;VALUE=DATE:20230428
DTEND;VALUE=DATE:20230429
DTSTAMP:20260419T171053
CREATED:20230418T174859Z
LAST-MODIFIED:20230425T201044Z
UID:6477-1682640000-1682726399@eleutah.org
SUMMARY:Second Day of Parent Teacher Conference for Part Day Classes
DESCRIPTION:If you were not able to make parent teacher conference on the first day please schedule to meet with your child’s teacher to complete the final parent teacher conference.
URL:https://eleutah.org/event/second-day-of-parent-teacher-conference-for-part-day-classes/
LOCATION:Provo Administrative Builidng\, 264 W 300 N\, Provo\, UT\, 84601\, United States
CATEGORIES:School Year Calendar
END:VEVENT
BEGIN:VEVENT
DTSTART;VALUE=DATE:20230421
DTEND;VALUE=DATE:20230422
DTSTAMP:20260419T171053
CREATED:20230418T174741Z
LAST-MODIFIED:20230425T201134Z
UID:6474-1682035200-1682121599@eleutah.org
SUMMARY:Parent Teacher Conference for Part Day & Extended Day Classes
DESCRIPTION:May 21st will be the final parent teacher conference for the 2022-2023 school year.
URL:https://eleutah.org/event/parent-teacher-conference-for-part-day-extended-classes/
LOCATION:Provo Administrative Builidng\, 264 W 300 N\, Provo\, UT\, 84601\, United States
CATEGORIES:School Year Calendar
END:VEVENT
END:VCALENDAR